BEGIN:VCALENDAR
VERSION:2.0
PRODID:-//www.juniorplayers.org//NONSGML kigkonsult.se iCalcreator 2.30.10/
 /
CALSCALE:GREGORIAN
METHOD:PUBLISH
UID:ef5eec06-6ce7-4b3f-a18b-4430226f0c4a
X-WR-CALDESC:Open to 6 - 14 year olds and completely free\, this program is
  a great opportunity to learn the tips and tricks of the trade from an ind
 ustry professional!
X-WR-RELCALID:be3a6498e0ffd74600b6f7bfe416357f
X-WR-TIMEZONE:America/Chicago
BEGIN:VTIMEZONE
TZID:America/Chicago
BEGIN:STANDARD
TZNAME:CST
DTSTART:20251102T020000
TZOFFSETFROM:-0500
TZOFFSETTO:-0600
RDATE:20261101T020000
RDATE:20271107T020000
END:STANDARD
BEGIN:DAYLIGHT
TZNAME:CDT
DTSTART:20260308T020000
TZOFFSETFROM:-0600
TZOFFSETTO:-0500
RDATE:20270314T020000
END:DAYLIGHT
END:VTIMEZONE
BEGIN:VEVENT
UID:0909f588-a06c-4db4-928d-0e9aeeeca27d
DTSTAMP:20260424T154453Z
DESCRIPTION:Open to 6 - 14 year olds and completely free\, this program is 
 a great opportunity to learn the tips and tricks of the trade from an indu
 stry professional!
DTSTART;TZID=America/Chicago:20260601T100000
DTEND;TZID=America/Chicago:20260601T120000
LOCATION:Dallas College Brookhaven Camps 3939 Valley View Lane\,  Farmers B
 ranch\, TX 75244
SUMMARY:Discover Theater
END:VEVENT
END:VCALENDAR
