BEGIN:VCALENDAR
VERSION:2.0
PRODID:-//www.juniorplayers.org//NONSGML kigkonsult.se iCalcreator 2.30.10/
 /
CALSCALE:GREGORIAN
METHOD:PUBLISH
UID:44e97d6e-0f26-4d1f-99d5-4ec755dc0ba7
X-WR-CALDESC:Auditions: May 4th\, 5:00 pm – 9:00 pm at East Dallas Christia
 n Church (629 N Peak St\, Dallas\, TX 75246)\n\nCallbacks: May 11th\, 5:00
  pm – 9:00 pm at East Dallas Christian Church (629 N Peak St\, Dallas\, TX
  75246)\n\n \n\nDirected by Kyle Lemieux and Assistant Directed by Rudy Lo
 pez\, Twelfth Night is a Shakespearean romantic comedy about mistaken iden
 tity\, love triangles\, and disguise\, centered on shipwrecked twins Viola
  and Sebastian in Illyria. Rehearsals will begin in June 2026. Performance
 s will be July 28\, 2026 through August 2\, 2026 at Theatre Three (2688 La
 clede St\, Dallas\, TX 75201). No conflicts will be accepted during the ru
 n of the show. Please come prepared with a 1 minute comedic Shakespeare mo
 nologue and a 1 minute contemporary monologue.
X-WR-RELCALID:90cebcfceb2202dc135e42de72195850
X-WR-TIMEZONE:America/Chicago
BEGIN:VTIMEZONE
TZID:America/Chicago
BEGIN:STANDARD
TZNAME:CST
DTSTART:20251102T020000
TZOFFSETFROM:-0500
TZOFFSETTO:-0600
RDATE:20261101T020000
END:STANDARD
BEGIN:DAYLIGHT
TZNAME:CDT
DTSTART:20260308T020000
TZOFFSETFROM:-0600
TZOFFSETTO:-0500
RDATE:20270314T020000
END:DAYLIGHT
END:VTIMEZONE
BEGIN:VEVENT
UID:ca42edf8-e86f-4356-94bf-021d80ff8301
DTSTAMP:20260423T025810Z
DESCRIPTION:Auditions: May 4th\, 5:00 pm – 9:00 pm at East Dallas Christian
  Church (629 N Peak St\, Dallas\, TX 75246)\n\nCallbacks: May 11th\, 5:00 
 pm – 9:00 pm at East Dallas Christian Church (629 N Peak St\, Dallas\, TX 
 75246)\n\n \n\nDirected by Kyle Lemieux and Assistant Directed by Rudy Lop
 ez\, Twelfth Night is a Shakespearean romantic comedy about mistaken ident
 ity\, love triangles\, and disguise\, centered on shipwrecked twins Viola 
 and Sebastian in Illyria. Rehearsals will begin in June 2026. Performances
  will be July 28\, 2026 through August 2\, 2026 at Theatre Three (2688 Lac
 lede St\, Dallas\, TX 75201). No conflicts will be accepted during the run
  of the show. Please come prepared with a 1 minute comedic Shakespeare mon
 ologue and a 1 minute contemporary monologue.
DTSTART;TZID=America/Chicago:20260504T170000
DTEND;TZID=America/Chicago:20260504T210000
LOCATION:East Dallas Christian Church (629 N Peak St\, Dallas\, TX 75246)
SUMMARY:Twelfth Night Auditions
END:VEVENT
END:VCALENDAR
