BEGIN:VCALENDAR
VERSION:2.0
PRODID:-//www.juniorplayers.org//NONSGML kigkonsult.se iCalcreator 2.30.10/
 /
CALSCALE:GREGORIAN
METHOD:PUBLISH
UID:604342ea-ba34-493a-a4e6-7764e781d182
X-WR-CALDESC:Directed by Kyle Lemieux and Assistant Directed by Rudy Lopez\
 , Twelfth Night is a Shakespearean romantic comedy about mistaken identity
 \, love triangles\, and disguise\, centered on shipwrecked twins Viola and
  Sebastian in Illyria. Rehearsals will begin in June 2026. Performances wi
 ll be July 28\, 2026 through August 2\, 2026 at Theatre Three (2688 Lacled
 e St\, Dallas\, TX 75201). No conflicts will be accepted during the run of
  the show. Please come prepared with a 1 minute comedic Shakespeare monolo
 gue and a 1 minute contemporary monologue.
X-WR-RELCALID:b9767f046e3bca7a9bf4eb9fc2332dd0
X-WR-TIMEZONE:America/Chicago
BEGIN:VTIMEZONE
TZID:America/Chicago
BEGIN:STANDARD
TZNAME:CST
DTSTART:20251102T020000
TZOFFSETFROM:-0500
TZOFFSETTO:-0600
RDATE:20261101T020000
END:STANDARD
BEGIN:DAYLIGHT
TZNAME:CDT
DTSTART:20260308T020000
TZOFFSETFROM:-0600
TZOFFSETTO:-0500
RDATE:20270314T020000
END:DAYLIGHT
END:VTIMEZONE
BEGIN:VEVENT
UID:369ba499-57b5-4e78-8849-f6d914eb612f
DTSTAMP:20260423T061653Z
DESCRIPTION:Directed by Kyle Lemieux and Assistant Directed by Rudy Lopez\,
  Twelfth Night is a Shakespearean romantic comedy about mistaken identity\
 , love triangles\, and disguise\, centered on shipwrecked twins Viola and 
 Sebastian in Illyria. Rehearsals will begin in June 2026. Performances wil
 l be July 28\, 2026 through August 2\, 2026 at Theatre Three (2688 Laclede
  St\, Dallas\, TX 75201). No conflicts will be accepted during the run of 
 the show. Please come prepared with a 1 minute comedic Shakespeare monolog
 ue and a 1 minute contemporary monologue.
DTSTART;TZID=America/Chicago:20260503T130000
DTEND;TZID=America/Chicago:20260503T170000
LOCATION:
SUMMARY:Twelfth Night Virtual Auditions Due
END:VEVENT
END:VCALENDAR
